BEGIN:VCALENDAR
VERSION:2.0
PRODID:-//IBWC - ECPv6.11.2.1//NONSGML v1.0//EN
CALSCALE:GREGORIAN
METHOD:PUBLISH
X-ORIGINAL-URL:https://www.ibwc.gov
X-WR-CALDESC:Events for IBWC
REFRESH-INTERVAL;VALUE=DURATION:PT1H
X-Robots-Tag:noindex
X-PUBLISHED-TTL:PT1H
BEGIN:VTIMEZONE
TZID:America/Phoenix
BEGIN:STANDARD
TZOFFSETFROM:-0700
TZOFFSETTO:-0700
TZNAME:MST
DTSTART:20250101T000000
END:STANDARD
END:VTIMEZONE
BEGIN:VTIMEZONE
TZID:America/New_York
BEGIN:DAYLIGHT
TZOFFSETFROM:-0500
TZOFFSETTO:-0400
TZNAME:EDT
DTSTART:20250309T070000
END:DAYLIGHT
BEGIN:STANDARD
TZOFFSETFROM:-0400
TZOFFSETTO:-0500
TZNAME:EST
DTSTART:20251102T060000
END:STANDARD
END:VTIMEZONE
BEGIN:VEVENT
DTSTART;TZID=America/Phoenix:20250415T160000
DTEND;TZID=America/Phoenix:20250415T180000
DTSTAMP:20260421T221027
CREATED:20250319T154455Z
LAST-MODIFIED:20250416T052213Z
UID:4642-1744732800-1744740000@www.ibwc.gov
SUMMARY:USIBWC Southeast Arizona Citizens Forum - April 15\, 2025
DESCRIPTION:**Link to Presentations** \n**Link to Video** \n  \nThe U.S. Section of the International Boundary and Water Commission (USIBWC) Southeast Arizona Citizens Forum board hosted an in-person and virtual public meeting on:\nTuesday\, April 15\, 2025\, from 4-6 p.m. MST \n  \n\nJohn Light\, USIBWC Nogales Field Office Area Operations Manager\, provided field office updates and the status of the Nogales International Wastewater Treatment Plant rehabilitation project.\n\n  \n\nSharon B. Megdal\, Director\, Water Resources Research Center\, & Dr. Elia Tapia Professor\, Universidad de Sonora provided a joint presentation on the Transboundary Aquifer Assessment Program\, discuss broader groundwater management efforts in Arizona\, and will hold a brief discussion on prioritizing Transboundary Aquifers in the Arizona–Sonora Region.\n\n  \n\n\nThe public meeting was held in person at:\nWater Resources Research Center\, University of Arizona\n350 N. Campbell Ave.\nTucson\, AZ 85719
URL:https://www.ibwc.gov/meeting/usibwc-southeast-arizona-citizens-forum-april-15-2025/
LOCATION:Water Resources Research Center\, University of Arizona\, 350 N. Campbell Ave.\, tucson\, AZ\, 85719\, United States
CATEGORIES:Southeast Arizona
ORGANIZER;CN="Frankie Pinon":MAILTO:frankie.pinon@ibwc.gov
END:VEVENT
BEGIN:VEVENT
DTSTART;TZID=America/New_York:20250417T150000
DTEND;TZID=America/New_York:20250417T170000
DTSTAMP:20260421T221027
CREATED:20250319T160633Z
LAST-MODIFIED:20250418T032220Z
UID:4645-1744902000-1744909200@www.ibwc.gov
SUMMARY:USIBWC Lower Rio Grande Citizens Forum - April 17\, 2025
DESCRIPTION:**Link to Presentations** \n**Link to Video** \nThe U.S. Section of the International Boundary and Water Commission (USIBWC) Lower Rio Grande Citizens Forum board hosted an in-person and virtual public meeting on:\nThursday\, April 17\, 2025\, from 3-5 p.m. CDT \n\nJoseph Tritz\, USIBWC Maintenance Worker Supervisor\, presented Lower Rio Grande Flood Control Project updates.\n\n\nIvan Santos\, Graduate Research Engineer with Research\, Applied Technology\, Education\, and Service\, Inc\, Rio Grande Valley\, discussed the development of a demonstrable hydrologic forecasting framework and prototype decision support tool.\n\nThe public meeting was held in person at:\nUSIBWC Mercedes Field Office\n325 Golf Course Rd.\nMercedes\, TX 78570
URL:https://www.ibwc.gov/meeting/usibwc-lower-rio-grande-citizens-forum-april-17-2025/
LOCATION:USIBWC Mercedes Field Office\, 325 Golf Course Road\, Mercedes\, TX\, 78570\, United States
CATEGORIES:Lower Rio Grande
ORGANIZER;CN="Frankie Pinon":MAILTO:frankie.pinon@ibwc.gov
END:VEVENT
END:VCALENDAR