BEGIN:VCALENDAR
VERSION:2.0
PRODID:-//IBWC - ECPv6.11.2.1//NONSGML v1.0//EN
CALSCALE:GREGORIAN
METHOD:PUBLISH
X-WR-CALNAME:IBWC
X-ORIGINAL-URL:https://www.ibwc.gov
X-WR-CALDESC:Events for IBWC
REFRESH-INTERVAL;VALUE=DURATION:PT1H
X-Robots-Tag:noindex
X-PUBLISHED-TTL:PT1H
BEGIN:VTIMEZONE
TZID:America/Phoenix
BEGIN:STANDARD
TZOFFSETFROM:-0700
TZOFFSETTO:-0700
TZNAME:MST
DTSTART:20250101T000000
END:STANDARD
END:VTIMEZONE
BEGIN:VEVENT
DTSTART;TZID=America/Phoenix:20250812T150000
DTEND;TZID=America/Phoenix:20250812T170000
DTSTAMP:20260424T051133
CREATED:20250725T162025Z
LAST-MODIFIED:20251212T214005Z
UID:4996-1755010800-1755018000@www.ibwc.gov
SUMMARY:USIBWC Southeast Arizona Citizens Forum August 12\, 2025
DESCRIPTION:Link to Video \nLink to Presentations \n  \nThe U.S. Section of the International Boundary and Water Commission (USIBWC) Southeast Arizona Citizens Forum board hosted an in-person and virtual public meeting on:\nTuesday\, August 12\, 2025\, from 3-5 p.m. MST. \n  \n• Francisco Morales\, Project Manager\, North American Development Bank\, presented on his agency’s wastewater projects aimed at preventing transboundary flows in the Nogales\, Arizona\, area. \n• Joaquin Marruffo Ruiz\, Border Programs Administrator\, Arizona Department of Environmental Quality\, provided an update on progress\, challenges\, and plans for the Oso Wash and Brickwood Canyon projects in Arizona. \n  \nThe public meeting was held in person at:\nTubac Community Center\nSanta Cruz County\, North Facility\n50 Bridge Road\, Tubac\, AZ 85646
URL:https://www.ibwc.gov/meeting/usibwc-southeast-arizona-citizens-forum-august-12-2025/
LOCATION:Tubac Community Center\, 50 Bridge Road\, Tubac\, AZ\, 85646\, United States
CATEGORIES:Southeast Arizona
ORGANIZER;CN="Frankie Pinon":MAILTO:frankie.pinon@ibwc.gov
END:VEVENT
END:VCALENDAR