BEGIN:VCALENDAR
VERSION:2.0
PRODID:-//IBWC - ECPv6.11.2.1//NONSGML v1.0//EN
CALSCALE:GREGORIAN
METHOD:PUBLISH
X-WR-CALNAME:IBWC
X-ORIGINAL-URL:https://www.ibwc.gov
X-WR-CALDESC:Events for IBWC
REFRESH-INTERVAL;VALUE=DURATION:PT1H
X-Robots-Tag:noindex
X-PUBLISHED-TTL:PT1H
BEGIN:VTIMEZONE
TZID:America/Los_Angeles
BEGIN:DAYLIGHT
TZOFFSETFROM:-0800
TZOFFSETTO:-0700
TZNAME:PDT
DTSTART:20250309T100000
END:DAYLIGHT
BEGIN:STANDARD
TZOFFSETFROM:-0700
TZOFFSETTO:-0800
TZNAME:PST
DTSTART:20251102T090000
END:STANDARD
END:VTIMEZONE
BEGIN:VEVENT
DTSTART;TZID=America/Los_Angeles:20250612T180000
DTEND;TZID=America/Los_Angeles:20250612T200000
DTSTAMP:20260424T064322
CREATED:20250603T221003Z
LAST-MODIFIED:20251212T214101Z
UID:4855-1749751200-1749758400@www.ibwc.gov
SUMMARY:USIBWC San Diego Citizens Forum June 12\, 2025
DESCRIPTION:Link to Video \nLink to Presentation \n  \nThe U.S. Section of the International Boundary and Water Commission (USIBWC) San Diego Citizens Forum board hosted an in-person and virtual public meeting on:\nThursday\, June 12\, 2025\, from 6-8 p.m. PDT \n  \n\nUSIBWC Senior Leadership and representatives from PCL Construction and Stantec Consulting Services\, Inc. provided an update on the acceleration of the incremental expansion of the South Bay International Wastewater Treatment Plant from 25 to 35 million gallons per day.\n\n  \nThe public meeting was held in person at: \nCoronado Community Center\n1845 Strand Way\nCoronado\, CA 92118
URL:https://www.ibwc.gov/meeting/usibwc-san-diego-citizens-forum-june-12/
LOCATION:Coronado Community Center\, 1845 Strand Way\, Coronado\, CA\, 92118\, United States
CATEGORIES:San Diego
END:VEVENT
END:VCALENDAR