BEGIN:VCALENDAR
VERSION:2.0
PRODID:-//IBWC - ECPv6.11.2.1//NONSGML v1.0//EN
CALSCALE:GREGORIAN
METHOD:PUBLISH
X-ORIGINAL-URL:https://www.ibwc.gov
X-WR-CALDESC:Events for IBWC
REFRESH-INTERVAL;VALUE=DURATION:PT1H
X-Robots-Tag:noindex
X-PUBLISHED-TTL:PT1H
BEGIN:VTIMEZONE
TZID:America/Phoenix
BEGIN:STANDARD
TZOFFSETFROM:-0700
TZOFFSETTO:-0700
TZNAME:MST
DTSTART:20250101T000000
END:STANDARD
END:VTIMEZONE
BEGIN:VEVENT
DTSTART;TZID=America/Phoenix:20250226T160000
DTEND;TZID=America/Phoenix:20250226T180000
DTSTAMP:20260421T163550
CREATED:20250213T211451Z
LAST-MODIFIED:20250319T152837Z
UID:4510-1740585600-1740592800@www.ibwc.gov
SUMMARY:USIBWC Colorado River Citizens Forum - February 26\, 2025
DESCRIPTION:**Link to Presentations** \n**Link to Video** \nThe U.S. Section of the International Boundary and Water Commission (USIBWC) Colorado River Citizens Forum board hosted an in-person and virtual public meeting on \nWednesday\, February 26\, 2025\, from 4-6 p.m. MST. \n\n\nFrancisco Zamora\, Senior Director of Programs\, Sonora Institute\, and Hydrologist Roberto Rangel\, The Nature Conservancy of Mexico\, presented on “Environmental Restoration and Ecological Effects Projects along the Colorado River.” They will discuss the observed responses of the hydrologic system\, vegetation\, and wildlife to habitat and flow restoration in the Colorado River Delta.\n\n\nCathy Douglas\, Executive Director\, Yuma Crossing National Heritage Area\, presented on the “Yuma East Wetlands Restoration Project\,” which aims to revitalize the waterfront area.\n\n\nAnna Morales\, Area Operations Manager\, USIBWC Yuma Field Office\, presented gaging station telemetry upgrades and live weblinks.\n\nThe public meeting was held in person at: \nYuma City Hall\, Room 190\n1 City Plaza\nYuma\, AZ 85364
URL:https://www.ibwc.gov/meeting/usibwc-colorado-river-citizens-forum-public-meeting-on-february-26/
CATEGORIES:Colorado River
END:VEVENT
END:VCALENDAR